BEGIN:VCALENDAR
VERSION:2.0
PRODID:-//Mecky Events Shop - ECPv6.15.12.2//NONSGML v1.0//EN
CALSCALE:GREGORIAN
METHOD:PUBLISH
X-WR-CALNAME:Mecky Events Shop
X-ORIGINAL-URL:https://mecky-events.de/shop
X-WR-CALDESC:Veranstaltungen für Mecky Events Shop
REFRESH-INTERVAL;VALUE=DURATION:PT1H
X-Robots-Tag:noindex
X-PUBLISHED-TTL:PT1H
BEGIN:VTIMEZONE
TZID:Europe/Berlin
BEGIN:DAYLIGHT
TZOFFSETFROM:+0100
TZOFFSETTO:+0200
TZNAME:CEST
DTSTART:20250330T010000
END:DAYLIGHT
BEGIN:STANDARD
TZOFFSETFROM:+0200
TZOFFSETTO:+0100
TZNAME:CET
DTSTART:20251026T010000
END:STANDARD
BEGIN:DAYLIGHT
TZOFFSETFROM:+0100
TZOFFSETTO:+0200
TZNAME:CEST
DTSTART:20260329T010000
END:DAYLIGHT
BEGIN:STANDARD
TZOFFSETFROM:+0200
TZOFFSETTO:+0100
TZNAME:CET
DTSTART:20261025T010000
END:STANDARD
BEGIN:DAYLIGHT
TZOFFSETFROM:+0100
TZOFFSETTO:+0200
TZNAME:CEST
DTSTART:20270328T010000
END:DAYLIGHT
BEGIN:STANDARD
TZOFFSETFROM:+0200
TZOFFSETTO:+0100
TZNAME:CET
DTSTART:20271031T010000
END:STANDARD
END:VTIMEZONE
BEGIN:VEVENT
DTSTART;TZID=Europe/Berlin:20260418T190000
DTEND;TZID=Europe/Berlin:20260418T200000
DTSTAMP:20260422T104919
CREATED:20251016T104020Z
LAST-MODIFIED:20251016T104020Z
UID:55385-1776538800-1776542400@mecky-events.de
SUMMARY:Stefan Danziger - Mittel und Wege
DESCRIPTION:
URL:https://mecky-events.de/shop/event/stefan-danziger-mittel-und-wege/
LOCATION:Scala Club Leverkusen\, Uhlandstraße 9\, Leverkusen\, 51379 
CATEGORIES:Comedy im Scala Club Opladen,Scala
ATTACH;FMTTYPE=image/jpeg:https://mecky-events.de/shop/wp-content/uploads/2025/10/StefanDanziger_Pressefoto_von_Stefan_Danziger-Kopie-scaled.jpg
END:VEVENT
END:VCALENDAR